BEGIN:VCALENDAR
VERSION:2.0
PRODID:-//Destination Toledo - ECPv6.15.17.1//NONSGML v1.0//EN
CALSCALE:GREGORIAN
METHOD:PUBLISH
X-WR-CALNAME:Destination Toledo
X-ORIGINAL-URL:https://develop-review-hart-desti-07sbl4.dev02.devhart.com
X-WR-CALDESC:Events for Destination Toledo
REFRESH-INTERVAL;VALUE=DURATION:PT1H
X-Robots-Tag:noindex
X-PUBLISHED-TTL:PT1H
BEGIN:VTIMEZONE
TZID:America/Detroit
BEGIN:DAYLIGHT
TZOFFSETFROM:-0500
TZOFFSETTO:-0400
TZNAME:EDT
DTSTART:20240310T070000
END:DAYLIGHT
BEGIN:STANDARD
TZOFFSETFROM:-0400
TZOFFSETTO:-0500
TZNAME:EST
DTSTART:20241103T060000
END:STANDARD
BEGIN:DAYLIGHT
TZOFFSETFROM:-0500
TZOFFSETTO:-0400
TZNAME:EDT
DTSTART:20250309T070000
END:DAYLIGHT
BEGIN:STANDARD
TZOFFSETFROM:-0400
TZOFFSETTO:-0500
TZNAME:EST
DTSTART:20251102T060000
END:STANDARD
BEGIN:DAYLIGHT
TZOFFSETFROM:-0500
TZOFFSETTO:-0400
TZNAME:EDT
DTSTART:20260308T070000
END:DAYLIGHT
BEGIN:STANDARD
TZOFFSETFROM:-0400
TZOFFSETTO:-0500
TZNAME:EST
DTSTART:20261101T060000
END:STANDARD
END:VTIMEZONE
BEGIN:VEVENT
DTSTART;TZID=America/Detroit:20250723T150000
DTEND;TZID=America/Detroit:20250723T190000
DTSTAMP:20260422T172109
CREATED:20250721T151116Z
LAST-MODIFIED:20250721T151313Z
UID:53519-1753282800-1753297200@develop-review-hart-desti-07sbl4.dev02.devhart.com
SUMMARY:Westgate Farmers' Market
DESCRIPTION:Check out the Westgate Farmers Market on Wednesdays from 3:00 pm – 7:00 pm featuring local produce & handmade products from local artisans in the Toledo Region May – October! \nYou can find the Westgate Farmers Market from the Expressway take I-475 to exit #17.  Turn south and proceed to Central Avenue\, Turn right on Central you will see the market on the right-hand side of the road across from COSTCO. Please be aware that this market is outdoors and is contingent on the weather. \nThe Farmers’ Market Association of Toledo (FMAT) goal is to provide a highly visible\, centralized location for area farmers and gardeners to market high-quality products directly to consumers. They support local small family farms\, agricultural producers\, and craftsmen\, whose continued existence depends on direct marketing opportunities.
URL:https://develop-review-hart-desti-07sbl4.dev02.devhart.com/event/westgate-farmers-market
LOCATION:Westgate Farmers Market\, 3408 West Central Avenue\, Toledo\, Ohio\, 43606
CATEGORIES:crafts,family friendly,food,outdoors,shopping
ATTACH;FMTTYPE=image/png:https://minio.devhart.com/destination-toledo-website/wp-content/uploads/2025/07/17110501/westgate-farmers-market-4x3-event-image-Recovered.png
END:VEVENT
BEGIN:VEVENT
DTSTART;TZID=America/Detroit:20250723T150000
DTEND;TZID=America/Detroit:20250723T190000
DTSTAMP:20260422T172109
CREATED:20250721T151116Z
LAST-MODIFIED:20250721T151313Z
UID:53519-1753282800-1753297200@develop-review-hart-desti-07sbl4.dev02.devhart.com
SUMMARY:Westgate Farmers' Market
DESCRIPTION:Check out the Westgate Farmers Market on Wednesdays from 3:00 pm – 7:00 pm featuring local produce & handmade products from local artisans in the Toledo Region May – October! \nYou can find the Westgate Farmers Market from the Expressway take I-475 to exit #17.  Turn south and proceed to Central Avenue\, Turn right on Central you will see the market on the right-hand side of the road across from COSTCO. Please be aware that this market is outdoors and is contingent on the weather. \nThe Farmers’ Market Association of Toledo (FMAT) goal is to provide a highly visible\, centralized location for area farmers and gardeners to market high-quality products directly to consumers. They support local small family farms\, agricultural producers\, and craftsmen\, whose continued existence depends on direct marketing opportunities.
URL:https://develop-review-hart-desti-07sbl4.dev02.devhart.com/event/westgate-farmers-market
LOCATION:Westgate Farmers Market\, 3408 West Central Avenue\, Toledo\, Ohio\, 43606
CATEGORIES:crafts,family friendly,food,outdoors,shopping
ATTACH;FMTTYPE=image/png:https://minio.devhart.com/destination-toledo-website/wp-content/uploads/2025/07/17110501/westgate-farmers-market-4x3-event-image-Recovered.png
END:VEVENT
BEGIN:VEVENT
DTSTART;TZID=America/Detroit:20250913T180000
DTEND;TZID=America/Detroit:20250913T223000
DTSTAMP:20260422T172109
CREATED:20250710T214950Z
LAST-MODIFIED:20250710T214950Z
UID:53463-1757786400-1757802600@develop-review-hart-desti-07sbl4.dev02.devhart.com
SUMMARY:Toledo Night Market
DESCRIPTION:Inspired by night markets from around the world\, stop by the Toledo Night Market at the Toledo Farmers’ Market! This is a place to gather and enjoy the experience of strolling through the open-air market at twilight featuring 85+ artisans & small businesses food trucks\, craft drinks and live music.\nAdmission is $5 at the entrance13Kids 5 and under freeFree parking lot and street parking available!\n\nThis event is rain or shine\, with a covered space. Find all dates under the Toledo Night Market website which includes: June 21\, July 12\, August 16 and September 13!
URL:https://develop-review-hart-desti-07sbl4.dev02.devhart.com/event/toledo-night-market-4
LOCATION:Toledo Farmers’ Market\, 525 Market St\,\, Toledo\, Ohio\, 43604\, United States
CATEGORIES:art,crafts,live music,outdoors,shopping
ATTACH;FMTTYPE=image/png:https://minio.devhart.com/destination-toledo-website/wp-content/uploads/2025/06/17110755/toledo-night-market-4x3-event-image.png
END:VEVENT
BEGIN:VEVENT
DTSTART;TZID=America/Detroit:20250914T110000
DTEND;TZID=America/Detroit:20250914T160000
DTSTAMP:20260422T172109
CREATED:20250610T181046Z
LAST-MODIFIED:20250610T192707Z
UID:52726-1757847600-1757865600@develop-review-hart-desti-07sbl4.dev02.devhart.com
SUMMARY:3rd Annual Sylvania Elks Craft Show
DESCRIPTION:Come support 75+ local crafters\, small businesses\, direct sales and more! \nWhen: September 14\, 2025\nTime: 11-4\nWhere: Sylvania Elks parking lot and inside\n3520 N. Holland-Sylvania Rd.
URL:https://develop-review-hart-desti-07sbl4.dev02.devhart.com/event/3rd-annual-sylvania-elks-craft-show
LOCATION:Sylvania Elks\, 2324 N Holland Sylvania Rd\, Toledo\, 43615
CATEGORIES:crafts
ATTACH;FMTTYPE=image/png:https://minio.devhart.com/destination-toledo-website/wp-content/uploads/2025/06/17110837/elk-craft-4x3-event-image.png
END:VEVENT
BEGIN:VEVENT
DTSTART;TZID=America/Detroit:20250723T150000
DTEND;TZID=America/Detroit:20250723T190000
DTSTAMP:20260422T172109
CREATED:20250721T151116Z
LAST-MODIFIED:20250721T151313Z
UID:53519-1753282800-1753297200@develop-review-hart-desti-07sbl4.dev02.devhart.com
SUMMARY:Westgate Farmers' Market
DESCRIPTION:Check out the Westgate Farmers Market on Wednesdays from 3:00 pm – 7:00 pm featuring local produce & handmade products from local artisans in the Toledo Region May – October! \nYou can find the Westgate Farmers Market from the Expressway take I-475 to exit #17.  Turn south and proceed to Central Avenue\, Turn right on Central you will see the market on the right-hand side of the road across from COSTCO. Please be aware that this market is outdoors and is contingent on the weather. \nThe Farmers’ Market Association of Toledo (FMAT) goal is to provide a highly visible\, centralized location for area farmers and gardeners to market high-quality products directly to consumers. They support local small family farms\, agricultural producers\, and craftsmen\, whose continued existence depends on direct marketing opportunities.
URL:https://develop-review-hart-desti-07sbl4.dev02.devhart.com/event/westgate-farmers-market
LOCATION:Westgate Farmers Market\, 3408 West Central Avenue\, Toledo\, Ohio\, 43606
CATEGORIES:crafts,family friendly,food,outdoors,shopping
ATTACH;FMTTYPE=image/png:https://minio.devhart.com/destination-toledo-website/wp-content/uploads/2025/07/17110501/westgate-farmers-market-4x3-event-image-Recovered.png
END:VEVENT
BEGIN:VEVENT
DTSTART;TZID=America/Detroit:20250918T180000
DTEND;TZID=America/Detroit:20250918T210000
DTSTAMP:20260422T172109
CREATED:20250911T143821Z
LAST-MODIFIED:20250911T143915Z
UID:54474-1758218400-1758229200@develop-review-hart-desti-07sbl4.dev02.devhart.com
SUMMARY:DIY After Dark at Handmade Toledo
DESCRIPTION:Handmade Toledo invites the community to its free monthly DIY After Dark event\, a fun and casual night of crafting\, creativity\, and connection. Held at the Handmade Toledo shop\, this evening event brings together local makers\, friends\, and DIY enthusiasts for a relaxed\, BYOB craft night in a welcoming creative space. \nGuests are encouraged to bring their own drinks or simply come to be inspired and hang out with the Toledo maker community. Those who pre-register will also receive an exclusive 20% off any DIY kit in the Handmade Toledo shop during the event. \nWhether you’re an experienced maker or just looking to try something new\, DIY After Dark is a perfect opportunity to unwind\, create\, and support Toledo’s vibrant arts scene.
URL:https://develop-review-hart-desti-07sbl4.dev02.devhart.com/event/diy-after-dark-at-handmade-toledo
LOCATION:Handmade Toledo\, 1717 Adams St.\, Toledo\, OH\, 43604\, United States
CATEGORIES:art,crafts,shopping
ATTACH;FMTTYPE=image/png:https://minio.devhart.com/destination-toledo-website/wp-content/uploads/2025/09/17105939/handmade-toledo-diy-dark-4x3-event-image.png
END:VEVENT
BEGIN:VEVENT
DTSTART;TZID=America/Detroit:20250723T150000
DTEND;TZID=America/Detroit:20250723T190000
DTSTAMP:20260422T172109
CREATED:20250721T151116Z
LAST-MODIFIED:20250721T151313Z
UID:53519-1753282800-1753297200@develop-review-hart-desti-07sbl4.dev02.devhart.com
SUMMARY:Westgate Farmers' Market
DESCRIPTION:Check out the Westgate Farmers Market on Wednesdays from 3:00 pm – 7:00 pm featuring local produce & handmade products from local artisans in the Toledo Region May – October! \nYou can find the Westgate Farmers Market from the Expressway take I-475 to exit #17.  Turn south and proceed to Central Avenue\, Turn right on Central you will see the market on the right-hand side of the road across from COSTCO. Please be aware that this market is outdoors and is contingent on the weather. \nThe Farmers’ Market Association of Toledo (FMAT) goal is to provide a highly visible\, centralized location for area farmers and gardeners to market high-quality products directly to consumers. They support local small family farms\, agricultural producers\, and craftsmen\, whose continued existence depends on direct marketing opportunities.
URL:https://develop-review-hart-desti-07sbl4.dev02.devhart.com/event/westgate-farmers-market
LOCATION:Westgate Farmers Market\, 3408 West Central Avenue\, Toledo\, Ohio\, 43606
CATEGORIES:crafts,family friendly,food,outdoors,shopping
ATTACH;FMTTYPE=image/png:https://minio.devhart.com/destination-toledo-website/wp-content/uploads/2025/07/17110501/westgate-farmers-market-4x3-event-image-Recovered.png
END:VEVENT
BEGIN:VEVENT
DTSTART;TZID=America/Detroit:20250927T110000
DTEND;TZID=America/Detroit:20250927T160000
DTSTAMP:20260422T172109
CREATED:20250925T191113Z
LAST-MODIFIED:20250925T191113Z
UID:54859-1758970800-1758988800@develop-review-hart-desti-07sbl4.dev02.devhart.com
SUMMARY:Spin & Splat 3rd Anniversary and FOAM Party
DESCRIPTION:Celebrate creativity and fun at the Spin & Splat 3rd Anniversary and FOAM Party! Happening on Saturday\, September 27 from 11 AM – 4 PM at Spin & Splat Studio\, this special event invites young artists ages 4–15 to explore their creativity with five exciting craft stations and take home their masterpieces. For just $10 per artist\, participants can enjoy mini spins\, glitter tattoos\, balloon animals\, tie-dye\, bookmark making\, and more. The celebration ends with an epic FOAM Party at 2 PM! Craft stations take about an hour to complete\, making this the perfect drop-in event for families looking to celebrate art\, color\, and imagination.
URL:https://develop-review-hart-desti-07sbl4.dev02.devhart.com/event/spin-splat-3rd-anniversary-and-foam-party
LOCATION:Spin & Splat Art Studio\, 2785 Central Ave\, Toledo\, 43606\, United States
CATEGORIES:art,crafts,family friendly
ATTACH;FMTTYPE=image/png:https://minio.devhart.com/destination-toledo-website/wp-content/uploads/2025/09/17105740/spin-and-splat-3-year-4x3-event-image.png
END:VEVENT
END:VCALENDAR