BEGIN:VCALENDAR
VERSION:2.0
PRODID:-//Destination Toledo - ECPv6.15.17.1//NONSGML v1.0//EN
CALSCALE:GREGORIAN
METHOD:PUBLISH
X-WR-CALNAME:Destination Toledo
X-ORIGINAL-URL:https://develop-review-hart-desti-07sbl4.dev02.devhart.com
X-WR-CALDESC:Events for Destination Toledo
REFRESH-INTERVAL;VALUE=DURATION:PT1H
X-Robots-Tag:noindex
X-PUBLISHED-TTL:PT1H
BEGIN:VTIMEZONE
TZID:America/Detroit
BEGIN:DAYLIGHT
TZOFFSETFROM:-0500
TZOFFSETTO:-0400
TZNAME:EDT
DTSTART:20240310T070000
END:DAYLIGHT
BEGIN:STANDARD
TZOFFSETFROM:-0400
TZOFFSETTO:-0500
TZNAME:EST
DTSTART:20241103T060000
END:STANDARD
BEGIN:DAYLIGHT
TZOFFSETFROM:-0500
TZOFFSETTO:-0400
TZNAME:EDT
DTSTART:20250309T070000
END:DAYLIGHT
BEGIN:STANDARD
TZOFFSETFROM:-0400
TZOFFSETTO:-0500
TZNAME:EST
DTSTART:20251102T060000
END:STANDARD
BEGIN:DAYLIGHT
TZOFFSETFROM:-0500
TZOFFSETTO:-0400
TZNAME:EDT
DTSTART:20260308T070000
END:DAYLIGHT
BEGIN:STANDARD
TZOFFSETFROM:-0400
TZOFFSETTO:-0500
TZNAME:EST
DTSTART:20261101T060000
END:STANDARD
END:VTIMEZONE
BEGIN:VEVENT
DTSTART;TZID=America/Detroit:20251220T200000
DTEND;TZID=America/Detroit:20251220T220000
DTSTAMP:20260420T074409
CREATED:20251020T153036Z
LAST-MODIFIED:20251020T153036Z
UID:55490-1766260800-1766268000@develop-review-hart-desti-07sbl4.dev02.devhart.com
SUMMARY:A Charlie Brown Christmas - Toledo Jazz Orchestra
DESCRIPTION:The Toledo Jazz Orchestra performs Vince Guaraldi’s timeless soundtrack to A Charlie Brown Christmas. Enjoy classic tunes like “Christmas Time Is Here” and “Linus and Lucy\,” bringing to life the playful\, jazz-infused soundtrack that perfectly complements Charlie Brown\, Snoopy\, and the Peanuts gang’s holiday spirit.
URL:https://develop-review-hart-desti-07sbl4.dev02.devhart.com/event/a-charlie-brown-christmas-toledo-jazz-orchestra
LOCATION:Toledo Museum of Art\, 2445 Monroe St\, Toledo\, OH\, 43620\, United States
CATEGORIES:concert,holiday,Jazz,live music
ATTACH;FMTTYPE=image/png:https://minio.devhart.com/destination-toledo-website/wp-content/uploads/2025/10/17105419/toledo-jazz-orchestra-charlie-brown-christmas-4x3-event-image.png
END:VEVENT
END:VCALENDAR