BEGIN:VCALENDAR
VERSION:2.0
PRODID:-//Destination Toledo - ECPv6.15.17.1//NONSGML v1.0//EN
CALSCALE:GREGORIAN
METHOD:PUBLISH
X-WR-CALNAME:Destination Toledo
X-ORIGINAL-URL:https://develop-review-hart-desti-07sbl4.dev02.devhart.com
X-WR-CALDESC:Events for Destination Toledo
REFRESH-INTERVAL;VALUE=DURATION:PT1H
X-Robots-Tag:noindex
X-PUBLISHED-TTL:PT1H
BEGIN:VTIMEZONE
TZID:America/Detroit
BEGIN:DAYLIGHT
TZOFFSETFROM:-0500
TZOFFSETTO:-0400
TZNAME:EDT
DTSTART:20240310T070000
END:DAYLIGHT
BEGIN:STANDARD
TZOFFSETFROM:-0400
TZOFFSETTO:-0500
TZNAME:EST
DTSTART:20241103T060000
END:STANDARD
BEGIN:DAYLIGHT
TZOFFSETFROM:-0500
TZOFFSETTO:-0400
TZNAME:EDT
DTSTART:20250309T070000
END:DAYLIGHT
BEGIN:STANDARD
TZOFFSETFROM:-0400
TZOFFSETTO:-0500
TZNAME:EST
DTSTART:20251102T060000
END:STANDARD
BEGIN:DAYLIGHT
TZOFFSETFROM:-0500
TZOFFSETTO:-0400
TZNAME:EDT
DTSTART:20260308T070000
END:DAYLIGHT
BEGIN:STANDARD
TZOFFSETFROM:-0400
TZOFFSETTO:-0500
TZNAME:EST
DTSTART:20261101T060000
END:STANDARD
END:VTIMEZONE
BEGIN:VEVENT
DTSTART;TZID=America/Detroit:20250913T170000
DTEND;TZID=America/Detroit:20250913T230000
DTSTAMP:20260420T034141
CREATED:20250904T201505Z
LAST-MODIFIED:20250904T201505Z
UID:54420-1757782800-1757804400@develop-review-hart-desti-07sbl4.dev02.devhart.com
SUMMARY:Harvest Moon Cocktail Night
DESCRIPTION:Join the fun at Dollop Shop on Saturday\, September 13th for craft cocktails\, wine\, and sweet and savory bakes. Start your night there or make it your last date night stop. The Dollop Shop can’t wait to share the first tastes of fall with you! \nReservations are recommended but walk-ins are always welcome.
URL:https://develop-review-hart-desti-07sbl4.dev02.devhart.com/event/harvest-moon-cocktail-night
LOCATION:Dollop Shop\, 3144 Markway Rd\, Toledo\, 43606\, United States
CATEGORIES:cocktails,food
ATTACH;FMTTYPE=image/png:https://minio.devhart.com/destination-toledo-website/wp-content/uploads/2025/09/17105958/dollop-shop-harvest-4x3-event-image.png
END:VEVENT
END:VCALENDAR