BEGIN:VCALENDAR
VERSION:2.0
PRODID:-//Destination Toledo - ECPv6.15.17.1//NONSGML v1.0//EN
CALSCALE:GREGORIAN
METHOD:PUBLISH
X-WR-CALNAME:Destination Toledo
X-ORIGINAL-URL:https://develop-review-hart-desti-07sbl4.dev02.devhart.com
X-WR-CALDESC:Events for Destination Toledo
REFRESH-INTERVAL;VALUE=DURATION:PT1H
X-Robots-Tag:noindex
X-PUBLISHED-TTL:PT1H
BEGIN:VTIMEZONE
TZID:America/Detroit
BEGIN:DAYLIGHT
TZOFFSETFROM:-0500
TZOFFSETTO:-0400
TZNAME:EDT
DTSTART:20240310T070000
END:DAYLIGHT
BEGIN:STANDARD
TZOFFSETFROM:-0400
TZOFFSETTO:-0500
TZNAME:EST
DTSTART:20241103T060000
END:STANDARD
BEGIN:DAYLIGHT
TZOFFSETFROM:-0500
TZOFFSETTO:-0400
TZNAME:EDT
DTSTART:20250309T070000
END:DAYLIGHT
BEGIN:STANDARD
TZOFFSETFROM:-0400
TZOFFSETTO:-0500
TZNAME:EST
DTSTART:20251102T060000
END:STANDARD
BEGIN:DAYLIGHT
TZOFFSETFROM:-0500
TZOFFSETTO:-0400
TZNAME:EDT
DTSTART:20260308T070000
END:DAYLIGHT
BEGIN:STANDARD
TZOFFSETFROM:-0400
TZOFFSETTO:-0500
TZNAME:EST
DTSTART:20261101T060000
END:STANDARD
END:VTIMEZONE
BEGIN:VEVENT
DTSTART;TZID=America/Detroit:20250515T180000
DTEND;TZID=America/Detroit:20250515T200000
DTSTAMP:20260420T133229
CREATED:20250501T184119Z
LAST-MODIFIED:20250501T184119Z
UID:51864-1747332000-1747339200@develop-review-hart-desti-07sbl4.dev02.devhart.com
SUMMARY:Jam City
DESCRIPTION:This event\, to benefit Food for Thought\, brings together 15-20 of the best local restaurants Toledo has to offer\, each one creating and serving their own gourmet take on the lunchtime classic: Peanut Butter & Jelly. Some of the past restaurants that have competed in this fun event are Balance\, Registry Bistro\, Ye Olde Durty Bird\, Mancy’s\, Adams St. Cafe\, Deets\, and many more! There will also be signature cocktails\, a silent auction\, 50/50 raffle\, photo booth\, and live music featured throughout the evening.
URL:https://develop-review-hart-desti-07sbl4.dev02.devhart.com/event/jam-city
LOCATION:One Seagate\, One Seagate\, Toledo\, Ohio\, 43604\, United States
CATEGORIES:charity,food
ATTACH;FMTTYPE=image/png:https://minio.devhart.com/destination-toledo-website/wp-content/uploads/2025/05/17111246/jam-city-4x3-event-image.png
END:VEVENT
END:VCALENDAR