BEGIN:VCALENDAR
VERSION:2.0
PRODID:-//Destination Toledo - ECPv6.15.17.1//NONSGML v1.0//EN
CALSCALE:GREGORIAN
METHOD:PUBLISH
X-WR-CALNAME:Destination Toledo
X-ORIGINAL-URL:https://develop-review-hart-desti-07sbl4.dev02.devhart.com
X-WR-CALDESC:Events for Destination Toledo
REFRESH-INTERVAL;VALUE=DURATION:PT1H
X-Robots-Tag:noindex
X-PUBLISHED-TTL:PT1H
BEGIN:VTIMEZONE
TZID:America/Detroit
BEGIN:DAYLIGHT
TZOFFSETFROM:-0500
TZOFFSETTO:-0400
TZNAME:EDT
DTSTART:20240310T070000
END:DAYLIGHT
BEGIN:STANDARD
TZOFFSETFROM:-0400
TZOFFSETTO:-0500
TZNAME:EST
DTSTART:20241103T060000
END:STANDARD
BEGIN:DAYLIGHT
TZOFFSETFROM:-0500
TZOFFSETTO:-0400
TZNAME:EDT
DTSTART:20250309T070000
END:DAYLIGHT
BEGIN:STANDARD
TZOFFSETFROM:-0400
TZOFFSETTO:-0500
TZNAME:EST
DTSTART:20251102T060000
END:STANDARD
BEGIN:DAYLIGHT
TZOFFSETFROM:-0500
TZOFFSETTO:-0400
TZNAME:EDT
DTSTART:20260308T070000
END:DAYLIGHT
BEGIN:STANDARD
TZOFFSETFROM:-0400
TZOFFSETTO:-0500
TZNAME:EST
DTSTART:20261101T060000
END:STANDARD
END:VTIMEZONE
BEGIN:VEVENT
DTSTART;TZID=America/Detroit:20250719T200000
DTEND;TZID=America/Detroit:20250719T230000
DTSTAMP:20260424T074244
CREATED:20250708T181825Z
LAST-MODIFIED:20250708T181825Z
UID:53115-1752955200-1752966000@develop-review-hart-desti-07sbl4.dev02.devhart.com
SUMMARY:Hollywood Casino Toledo - Noisy Neighbors
DESCRIPTION:On Saturday\, July 19th Noisy Neighbors\, a female fronted Top 40 pop/rock cover band based in Toledo\, performs at Hollywood Casino Toledo inside the H-Lounge! \nAt Hollywood Casino Toledo\, the H Lounge offers a vibrant atmosphere with free live entertainment every Friday and Saturday night from 8 p.m. to 11 p.m. Located on the casino floor\, the H Lounge features a variety of performances\, including local bands and tribute acts. You can also purchase tickets for a 4 top VIP viewing table on their website!
URL:https://develop-review-hart-desti-07sbl4.dev02.devhart.com/event/hollywood-casino-toledo-noisy-neighbors
LOCATION:Hollywood Casino\, 1968 Miami St\, Toledo\, OH\, 43605\, United States
CATEGORIES:casino,entertainment,live music
ATTACH;FMTTYPE=image/jpeg:https://minio.devhart.com/destination-toledo-website/wp-content/uploads/2025/06/17110652/b9870f77-94ac-4a69-a5da-d17b6aa4e1ee-6.jpg
END:VEVENT
BEGIN:VEVENT
DTSTART;TZID=America/Detroit:20250719T110000
DTEND;TZID=America/Detroit:20250719T160000
DTSTAMP:20260424T074244
CREATED:20250709T141323Z
LAST-MODIFIED:20250709T141323Z
UID:53129-1752922800-1752940800@develop-review-hart-desti-07sbl4.dev02.devhart.com
SUMMARY:Hollywood Casino Toledo - Luxe Lounge Pop-Up Bar
DESCRIPTION:Step into something special at the Luxe Lounge Pop-Up Bar—an afternoon takeover of H-Lounge in the heart of the casino. Discover a trio of unique\, expressive experiences including Henna Tattoos\, Hair Tinseling\, and Permanent Jewelry—perfect for adding a little flair to your Saturday afternoon. Admission is free\, and services are available for purchase directly from our talented local vendors. Come explore\, treat yourself\, and support these small businesses while you’re at it.
URL:https://develop-review-hart-desti-07sbl4.dev02.devhart.com/event/hollywood-casino-toledo-luxe-lounge-pop-up-bar
LOCATION:Hollywood Casino\, 1968 Miami St\, Toledo\, OH\, 43605\, United States
CATEGORIES:casino,crafts
ATTACH;FMTTYPE=image/jpeg:https://minio.devhart.com/destination-toledo-website/wp-content/uploads/2025/06/17110651/b9870f77-94ac-4a69-a5da-d17b6aa4e1ee-8.jpg
END:VEVENT
BEGIN:VEVENT
DTSTART;TZID=America/Detroit:20250718T200000
DTEND;TZID=America/Detroit:20250718T230000
DTSTAMP:20260424T074244
CREATED:20250708T195722Z
LAST-MODIFIED:20250708T195722Z
UID:53123-1752868800-1752879600@develop-review-hart-desti-07sbl4.dev02.devhart.com
SUMMARY:Hollywood Casino Toledo - Kall Me Kendra
DESCRIPTION:On Friday\, July 18th Kall Me Kendra\, a Northwest Ohio female fronted rock & roll party band with a dash of country takes the stage at Hollywood Casino Toledo inside the H-Lounge! \nAt Hollywood Casino Toledo\, the H Lounge offers a vibrant atmosphere with free live entertainment every Friday and Saturday night from 8 p.m. to 11 p.m. Located on the casino floor\, the H Lounge features a variety of performances\, including local bands and tribute acts. You can also purchase tickets for a 4 top VIP viewing table on their website!
URL:https://develop-review-hart-desti-07sbl4.dev02.devhart.com/event/hollywood-casino-toledo-kall-me-kendra-2
LOCATION:Hollywood Casino\, 1968 Miami St\, Toledo\, OH\, 43605\, United States
CATEGORIES:casino,entertainment,live music
ATTACH;FMTTYPE=image/jpeg:https://minio.devhart.com/destination-toledo-website/wp-content/uploads/2025/06/17110651/b9870f77-94ac-4a69-a5da-d17b6aa4e1ee-7.jpg
END:VEVENT
BEGIN:VEVENT
DTSTART;TZID=America/Detroit:20250718T200000
DTEND;TZID=America/Detroit:20250718T230000
DTSTAMP:20260424T074244
CREATED:20250708T180214Z
LAST-MODIFIED:20250708T180214Z
UID:53109-1752868800-1752879600@develop-review-hart-desti-07sbl4.dev02.devhart.com
SUMMARY:Hollywood Casino Toledo - Kall Me Kendra
DESCRIPTION:On Friday\, July 18th Kall Me Kendra\, a Northwest Ohio female fronted rock & roll party band with a dash of country\, takes the stage at Hollywood Casino Toledo inside the H-Lounge! \nAt Hollywood Casino Toledo\, the H Lounge offers a vibrant atmosphere with free live entertainment every Friday and Saturday night from 8 p.m. to 11 p.m. Located on the casino floor\, the H Lounge features a variety of performances\, including local bands and tribute acts. You can also purchase tickets for a 4 top VIP viewing table on their website!
URL:https://develop-review-hart-desti-07sbl4.dev02.devhart.com/event/hollywood-casino-toledo-kall-me-kendra
LOCATION:Hollywood Casino\, 1968 Miami St\, Toledo\, OH\, 43605\, United States
CATEGORIES:casino,entertainment,live music
ATTACH;FMTTYPE=image/jpeg:https://minio.devhart.com/destination-toledo-website/wp-content/uploads/2025/06/17110652/b9870f77-94ac-4a69-a5da-d17b6aa4e1ee-5.jpg
END:VEVENT
BEGIN:VEVENT
DTSTART;TZID=America/Detroit:20250712T200000
DTEND;TZID=America/Detroit:20250712T230000
DTSTAMP:20260424T074244
CREATED:20250707T195451Z
LAST-MODIFIED:20250707T195451Z
UID:53102-1752350400-1752361200@develop-review-hart-desti-07sbl4.dev02.devhart.com
SUMMARY:Hollywood Casino Toledo - Madison Avenue Band
DESCRIPTION:On Saturday\, July 12th Hollywood Casino will be hosting Madison Avenue Band – 3 Car Garage Band at Hollywood Casino Toledo inside the H-Lounge! \nAt Hollywood Casino Toledo\, the H Lounge offers a vibrant atmosphere with free live entertainment every Friday and Saturday night from 8 p.m. to 11 p.m. Located on the casino floor\, the H Lounge features a variety of performances\, including local bands and tribute acts.
URL:https://develop-review-hart-desti-07sbl4.dev02.devhart.com/event/hollywood-casino-toledo-madison-avenue-band-2
LOCATION:Hollywood Casino\, 1968 Miami St\, Toledo\, OH\, 43605\, United States
CATEGORIES:casino,entertainment,live music
ATTACH;FMTTYPE=image/jpeg:https://minio.devhart.com/destination-toledo-website/wp-content/uploads/2025/06/17110655/b9870f77-94ac-4a69-a5da-d17b6aa4e1ee-3.jpg
END:VEVENT
BEGIN:VEVENT
DTSTART;TZID=America/Detroit:20250711T200000
DTEND;TZID=America/Detroit:20250711T230000
DTSTAMP:20260424T074244
CREATED:20250707T131707Z
LAST-MODIFIED:20250707T132627Z
UID:53094-1752264000-1752274800@develop-review-hart-desti-07sbl4.dev02.devhart.com
SUMMARY:Hollywood Casino Toledo | North of Nashville & LinedUp Line Dancing
DESCRIPTION:On Friday\, July 11th Hollywood Casino will be hosting North of Nashville – Toledo’s premier country band & LinedUp Line Dancing as they teach free beginner line dancing lessons at 7:30-8:00 and 9:15-9:45 inside the H-Lounge! \nAt Hollywood Casino Toledo\, the H Lounge offers a vibrant atmosphere with free live entertainment every Friday and Saturday night from 8 p.m. to 11 p.m. Located on the casino floor\, the H Lounge features a variety of performances\, including local bands and tribute acts. You can also purchase tickets for a 4 top VIP viewing table on their website!
URL:https://develop-review-hart-desti-07sbl4.dev02.devhart.com/event/hollywood-casino-toledo-north-of-nashville-linedup-line-dancing
LOCATION:Hollywood Casino\, 1968 Miami St\, Toledo\, OH\, 43605\, United States
CATEGORIES:casino,dance,educational,live music
ATTACH;FMTTYPE=image/jpeg:https://minio.devhart.com/destination-toledo-website/wp-content/uploads/2025/06/17110655/b9870f77-94ac-4a69-a5da-d17b6aa4e1ee-2.jpg
END:VEVENT
BEGIN:VEVENT
DTSTART;TZID=America/Detroit:20250627T200000
DTEND;TZID=America/Detroit:20250627T230000
DTSTAMP:20260424T074244
CREATED:20250609T193528Z
LAST-MODIFIED:20250609T193528Z
UID:52461-1751054400-1751065200@develop-review-hart-desti-07sbl4.dev02.devhart.com
SUMMARY:Hollywood Casino Toledo - Old Skool
DESCRIPTION:On Friday\, June 27 at The Hollywood Casino will be hosting Old Skool\, a tribute to throwback Dance Jamz with tight\, high energy\, and an overall exceptionally fun band inside the H-Lounge! \nAt Hollywood Casino Toledo\, the H Lounge offers a vibrant atmosphere with free live entertainment every Friday and Saturday night from 8 p.m. to 11 p.m. Located on the casino floor\, the H Lounge features a variety of performances\, including local bands and tribute acts.
URL:https://develop-review-hart-desti-07sbl4.dev02.devhart.com/event/hollywood-casino-toledo-old-skool
LOCATION:Hollywood Casino\, 1968 Miami St\, Toledo\, OH\, 43605\, United States
CATEGORIES:casino,live music
ATTACH;FMTTYPE=image/jpeg:https://minio.devhart.com/destination-toledo-website/wp-content/uploads/2025/05/17111010/995dd7a9-7cee-40fc-9611-b93376b16aa0-13.jpg
END:VEVENT
BEGIN:VEVENT
DTSTART;TZID=America/Detroit:20250620T200000
DTEND;TZID=America/Detroit:20250620T230000
DTSTAMP:20260424T074244
CREATED:20250610T122255Z
LAST-MODIFIED:20250610T122255Z
UID:52448-1750449600-1750460400@develop-review-hart-desti-07sbl4.dev02.devhart.com
SUMMARY:Hollywood Casino Toledo | Arctic Clam
DESCRIPTION:The Hollywood Casino on Friday\, June 20th will be hosting Arctic Clam\, a Toledo Base Rock Cover Band Inside the H-Lounge! \nAt Hollywood Casino Toledo\, the H Lounge offers a vibrant atmosphere with free live entertainment every Friday and Saturday night from 8 p.m. to 11 p.m. Located on the casino floor\, the H Lounge features a variety of performances\, including local bands and tribute acts.
URL:https://develop-review-hart-desti-07sbl4.dev02.devhart.com/event/hollywood-casino-toledo-arctic-clam
LOCATION:Hollywood Casino\, 1968 Miami St\, Toledo\, OH\, 43605\, United States
CATEGORIES:casino,concert,entertainment,live music
ATTACH;FMTTYPE=image/jpeg:https://minio.devhart.com/destination-toledo-website/wp-content/uploads/2025/05/17111014/995dd7a9-7cee-40fc-9611-b93376b16aa0-7.jpg
END:VEVENT
BEGIN:VEVENT
DTSTART;TZID=America/Detroit:20250614T200000
DTEND;TZID=America/Detroit:20250614T230000
DTSTAMP:20260424T074244
CREATED:20250610T122713Z
LAST-MODIFIED:20250610T122713Z
UID:52442-1749931200-1749942000@develop-review-hart-desti-07sbl4.dev02.devhart.com
SUMMARY:Hollywood Casino Toledo | Madison Avenue Band
DESCRIPTION:The Hollywood Casino on Saturday\, June 14th we will be hosting Madison Avenue Band\, a high energy rock-rhythm and blues ten-piece band  inside the H-Lounge! \nAt Hollywood Casino Toledo\, the H Lounge offers a vibrant atmosphere with free live entertainment every Friday and Saturday night from 8 p.m. to 11 p.m. Located on the casino floor\, the H Lounge features a variety of performances\, including local bands and tribute acts.
URL:https://develop-review-hart-desti-07sbl4.dev02.devhart.com/event/hollywood-casino-toledo-madison-avenue-band
LOCATION:Hollywood Casino\, 1968 Miami St\, Toledo\, OH\, 43605\, United States
CATEGORIES:casino,concert,entertainment,live music
ATTACH;FMTTYPE=image/jpeg:https://minio.devhart.com/destination-toledo-website/wp-content/uploads/2025/05/17111018/995dd7a9-7cee-40fc-9611-b93376b16aa0-5.jpg
END:VEVENT
BEGIN:VEVENT
DTSTART;TZID=America/Detroit:20250613T200000
DTEND;TZID=America/Detroit:20250613T230000
DTSTAMP:20260424T074244
CREATED:20250610T123455Z
LAST-MODIFIED:20250610T123455Z
UID:52438-1749844800-1749855600@develop-review-hart-desti-07sbl4.dev02.devhart.com
SUMMARY:Hollywood Casino Toledo | Distant Cousinz
DESCRIPTION:The Hollywood Casino on Friday\, June 13th will be hosting Distant Cousinz\, an Ohio based award winning cover band\, with a very unique sound covering multiple genre’s  inside the H-Lounge! \nAt Hollywood Casino Toledo\, the H Lounge offers a vibrant atmosphere with free live entertainment every Friday and Saturday night from 8 p.m. to 11 p.m. Located on the casino floor\, the H Lounge features a variety of performances\, including local bands and tribute acts.
URL:https://develop-review-hart-desti-07sbl4.dev02.devhart.com/event/hollywood-casino-toledo-distant-cousinz
LOCATION:Hollywood Casino\, 1968 Miami St\, Toledo\, OH\, 43605\, United States
CATEGORIES:casino,concert,entertainment,live music
ATTACH;FMTTYPE=image/jpeg:https://minio.devhart.com/destination-toledo-website/wp-content/uploads/2025/05/17111020/995dd7a9-7cee-40fc-9611-b93376b16aa0-3.jpg
END:VEVENT
BEGIN:VEVENT
DTSTART;TZID=America/Detroit:20250510T110000
DTEND;TZID=America/Detroit:20250510T153000
DTSTAMP:20260424T074244
CREATED:20250502T121630Z
LAST-MODIFIED:20250502T122010Z
UID:51874-1746874800-1746891000@develop-review-hart-desti-07sbl4.dev02.devhart.com
SUMMARY:Build-Your-Own Shadow Box | Hollywood Casino Toledo
DESCRIPTION:Celebrate the special women in your life at this Build-Your-Own Shadow Box Event at Hollywood Casino Toledo at 11 AM and 2 PM. GardenView’s design team will help you create your own floral shadowbox to take home. \nYou can sign up for a class from 11:00 am – 12:30 pm or from 2:00 pm to 3:30 pm. \nAs part of your ticket\, also enjoy a Regalo Lunch Buffet\, a complimentary $20 Slot Play Voucher\, themed cookies\, a fun photo booth and drawings! Must be 21 or older to attend.
URL:https://develop-review-hart-desti-07sbl4.dev02.devhart.com/event/build-your-own-shadow-box-hollywood-casino-toledo
LOCATION:Hollywood Casino\, 1968 Miami St\, Toledo\, OH\, 43605\, United States
CATEGORIES:casino,food
ATTACH;FMTTYPE=image/png:https://minio.devhart.com/destination-toledo-website/wp-content/uploads/2025/05/17111243/shadow-box-4x3-event-image.png
END:VEVENT
BEGIN:VEVENT
DTSTART;TZID=America/Detroit:20250509T200000
DTEND;TZID=America/Detroit:20250509T230000
DTSTAMP:20260424T074244
CREATED:20250502T170106Z
LAST-MODIFIED:20250502T170106Z
UID:51885-1746820800-1746831600@develop-review-hart-desti-07sbl4.dev02.devhart.com
SUMMARY:Amelia Airharts at Hollywood Casino
DESCRIPTION:The Amelia Airharts play a mix of rock\, folk\, and soul. Serenading the streets of Toledo with their particular sound; they are versatile\, elegant and hardcore. With hyper fast songwriting and some of the sweetest guitar riffs you’ll ever hear; the Airharts have truly put their Long Hair Up and worked hard to get to where they are. Whether you stumble in hypnotized by Grace’s sirenesque vocals\, Cari’s impeccable groove\, or haven’t gotten your jaw off the floor after one of Megan’s sick guitar solos you’ll never be alone in your amazement.
URL:https://develop-review-hart-desti-07sbl4.dev02.devhart.com/event/amelia-airharts-at-hollywood-casino
LOCATION:Hollywood Casino\, 1968 Miami St\, Toledo\, OH\, 43605\, United States
CATEGORIES:casino,live music
ATTACH;FMTTYPE=image/png:https://minio.devhart.com/destination-toledo-website/wp-content/uploads/2025/05/17111239/amelia-airharts-4x3-event-image.png
END:VEVENT
BEGIN:VEVENT
DTSTART;TZID=America/Detroit:20250419T200000
DTEND;TZID=America/Detroit:20250419T230000
DTSTAMP:20260424T074244
CREATED:20250411T172841Z
LAST-MODIFIED:20250411T173334Z
UID:46700-1745092800-1745103600@develop-review-hart-desti-07sbl4.dev02.devhart.com
SUMMARY:Arctic Clam at Hollywood Casino
DESCRIPTION:Arctic Clam is a Toledo based rock cover band comprised of long time musicians lead by vocalist Nicole Khoury and drummer Scott Hayes.  The pair is joined by original guitarist Mick Mason and bassist Steve Knurek and also features Johannes Ronquillo\, and Grace Mauk. \nArctic Clam has opened for National Acts including\, Joan Jett and The Blackhearts\, George Clinton and Parliament Funkadelic\, Skid Row\, Rusted Root\, Collective Soul\, John Waite\, Berlin\, Little River Band\, Eddie Money\, Lou Graham\, Micki Thomas\, Steve Augeri\, and Crystal Bowersox.
URL:https://develop-review-hart-desti-07sbl4.dev02.devhart.com/event/arctic-clam-at-hollywood-casino
LOCATION:Hollywood Casino\, 1968 Miami St\, Toledo\, OH\, 43605\, United States
CATEGORIES:casino,live music
ATTACH;FMTTYPE=image/png:https://minio.devhart.com/destination-toledo-website/wp-content/uploads/2025/04/17111503/arctic-clam-4x3-event-image.png
END:VEVENT
BEGIN:VEVENT
DTSTART;TZID=America/Detroit:20250418T200000
DTEND;TZID=America/Detroit:20250418T230000
DTSTAMP:20260424T074244
CREATED:20250408T201704Z
LAST-MODIFIED:20250408T201704Z
UID:46386-1745006400-1745017200@develop-review-hart-desti-07sbl4.dev02.devhart.com
SUMMARY:Andi Jo Taylor at Hollywood Casino
DESCRIPTION:Andi Jo Taylor\, Ohio’s Princess of Country\, brings her high-energy act to the stage at Hollywood Casino!
URL:https://develop-review-hart-desti-07sbl4.dev02.devhart.com/event/andi-jo-taylor-at-hollywood-casino
LOCATION:Hollywood Casino\, 1968 Miami St\, Toledo\, OH\, 43605\, United States
CATEGORIES:casino,country music,live music
ATTACH;FMTTYPE=image/png:https://minio.devhart.com/destination-toledo-website/wp-content/uploads/2025/04/17111546/andi-jo-taylor-4x3-event-image.png
END:VEVENT
BEGIN:VEVENT
DTSTART;TZID=America/Detroit:20250412T200000
DTEND;TZID=America/Detroit:20250412T230000
DTSTAMP:20260424T074244
CREATED:20250322T171431Z
LAST-MODIFIED:20250322T171431Z
UID:39810-1744488000-1744498800@develop-review-hart-desti-07sbl4.dev02.devhart.com
SUMMARY:Rumours - Fleetwood Mac Tribute at Hollywood Casino
DESCRIPTION:Join us for a crowd favorite – The Fleetwood Mac Tribute!\nRumours was formed in Los Angeles\, CA\, the Summer of 2012. Since then\, they have traveled all of North America\, and meticulously put together a show that spares no detail. Recreating the band’s legendary persona\, in all it’s youthful glory from 1975-1987.\nBe sure to take advantage of this FREE admission show. Catch dinner before the show at any of our amazing restaurants.\nMust be 21 or over to play. Gambling problem? \nCall 1-800-589-9966 or visit org.ohio.gov for help.
URL:https://develop-review-hart-desti-07sbl4.dev02.devhart.com/event/rumours-fleetwood-mac-tribute-at-hollywood-casino
LOCATION:Hollywood Casino\, 1968 Miami St\, Toledo\, OH\, 43605\, United States
CATEGORIES:casino,live music
ATTACH;FMTTYPE=image/png:https://minio.devhart.com/destination-toledo-website/wp-content/uploads/2025/03/17111844/rumours-4x3-event-image.png
END:VEVENT
BEGIN:VEVENT
DTSTART;TZID=America/Detroit:20250411T200000
DTEND;TZID=America/Detroit:20250411T230000
DTSTAMP:20260424T074244
CREATED:20250407T193600Z
LAST-MODIFIED:20250407T193600Z
UID:46243-1744401600-1744412400@develop-review-hart-desti-07sbl4.dev02.devhart.com
SUMMARY:Whiskey Gypsy at Hollywood Casino
DESCRIPTION:Whiskey Gypsy makes their Hollywood Casion debut! \nWHISKEY GYPSY is a five-piece Party-Rock-Pop-Modern Country cover band\, led by two female vocalists. Members are established professionals with most having decades of stage experience. They play a wide variety of dance and party music spanning multiple decades from the 60’s to today.
URL:https://develop-review-hart-desti-07sbl4.dev02.devhart.com/event/whiskey-gypsy-at-hollywood-casino
LOCATION:Hollywood Casino\, 1968 Miami St\, Toledo\, OH\, 43605\, United States
CATEGORIES:casino,live music
ATTACH;FMTTYPE=image/png:https://minio.devhart.com/destination-toledo-website/wp-content/uploads/2025/04/17111616/whiskey-gypsy-4x3-event-image.png
END:VEVENT
BEGIN:VEVENT
DTSTART;TZID=America/Detroit:20250405T200000
DTEND;TZID=America/Detroit:20250405T230000
DTSTAMP:20260424T074244
CREATED:20250322T172914Z
LAST-MODIFIED:20250322T172914Z
UID:39814-1743883200-1743894000@develop-review-hart-desti-07sbl4.dev02.devhart.com
SUMMARY:Gasoline Alley at Hollywood Casino
DESCRIPTION:Join us for a crowd favorite – Gasoline Alley!\nRock out with one of the region’s most experienced all-star rock cover bands!\nMust be 21 or over to play. Gambling problem? \nCall 1-800-589-9966 or visit org.ohio.gov for help.
URL:https://develop-review-hart-desti-07sbl4.dev02.devhart.com/event/gasoline-alley-at-hollywood-casino
LOCATION:Hollywood Casino\, 1968 Miami St\, Toledo\, OH\, 43605\, United States
CATEGORIES:casino,live music
ATTACH;FMTTYPE=image/png:https://minio.devhart.com/destination-toledo-website/wp-content/uploads/2025/03/17111842/gasoline-alley-4x3-event-image.png
END:VEVENT
BEGIN:VEVENT
DTSTART;TZID=America/Detroit:20250404T200000
DTEND;TZID=America/Detroit:20250404T230000
DTSTAMP:20260424T074244
CREATED:20250322T172116Z
LAST-MODIFIED:20250322T172445Z
UID:39812-1743796800-1743807600@develop-review-hart-desti-07sbl4.dev02.devhart.com
SUMMARY:The Menus at Hollywood Casino
DESCRIPTION:Join us for a crowd favorite – The Menus!\nThe Menus were formed in 1983 in a small basement of a small house on the west side of Cincinnati\, OH. A very young and green lineup ended up turning into one of the most successful Cincinnati based cover bands!\nMust be 21 or over to play. Gambling problem? \nCall 1-800-589-9966 or visit org.ohio.gov for help.
URL:https://develop-review-hart-desti-07sbl4.dev02.devhart.com/event/the-menus-at-hollywood-casino
LOCATION:Hollywood Casino\, 1968 Miami St\, Toledo\, OH\, 43605\, United States
CATEGORIES:casino,live music
ATTACH;FMTTYPE=image/png:https://minio.devhart.com/destination-toledo-website/wp-content/uploads/2025/03/17111843/the-menus-4x3-event-image.png
END:VEVENT
BEGIN:VEVENT
DTSTART;TZID=America/Detroit:20250329T200000
DTEND;TZID=America/Detroit:20250329T230000
DTSTAMP:20260424T074244
CREATED:20250322T145121Z
LAST-MODIFIED:20250327T171924Z
UID:39808-1743278400-1743289200@develop-review-hart-desti-07sbl4.dev02.devhart.com
SUMMARY:Red Carpet Crashers at Hollywood Casino
DESCRIPTION:Join the Red Carpet Crashers for a no-cover show in the H Lounge! \nMust be 21 or over to play. Gambling problem? \nCall 1-800-589-9966 or visit org.ohio.gov for help.
URL:https://develop-review-hart-desti-07sbl4.dev02.devhart.com/event/red-carpet-crashers-at-hollywood-casino
LOCATION:Hollywood Casino\, 1968 Miami St\, Toledo\, OH\, 43605\, United States
CATEGORIES:casino,live music
ATTACH;FMTTYPE=image/png:https://minio.devhart.com/destination-toledo-website/wp-content/uploads/2025/03/17111844/red-carpet-crashers-4x3-event-image.png
END:VEVENT
BEGIN:VEVENT
DTSTART;TZID=America/Detroit:20250321T200000
DTEND;TZID=America/Detroit:20250321T230000
DTSTAMP:20260424T074244
CREATED:20250319T182456Z
LAST-MODIFIED:20250322T142746Z
UID:39671-1742587200-1742598000@develop-review-hart-desti-07sbl4.dev02.devhart.com
SUMMARY:Pop's Garage at Hollywood Casino
DESCRIPTION:Join Pop’s Garage for a no-cover show in the H Lounge! \nPop’s Garage is a five-piece Top 40 & Pop Music Hits cover band. With spot on harmonies and an exceptional stage show they keep the audience engaged from beginning to end! Their goal is to keep people partying on the dance floor all night! \nMust be 21 or over to play. Gambling problem? \nCall 1-800-589-9966 or visit org.ohio.gov for help.
URL:https://develop-review-hart-desti-07sbl4.dev02.devhart.com/event/pops-garage-at-hollywood-casino
LOCATION:Hollywood Casino\, 1968 Miami St\, Toledo\, OH\, 43605\, United States
CATEGORIES:casino,live music
ATTACH;FMTTYPE=image/png:https://minio.devhart.com/destination-toledo-website/wp-content/uploads/2025/03/19142349/pops-garage-4x3-event-image.png
END:VEVENT
END:VCALENDAR