BEGIN:VCALENDAR
VERSION:2.0
PRODID:-//Destination Toledo - ECPv6.15.17.1//NONSGML v1.0//EN
CALSCALE:GREGORIAN
METHOD:PUBLISH
X-ORIGINAL-URL:https://develop-review-hart-desti-07sbl4.dev02.devhart.com
X-WR-CALDESC:Events for Destination Toledo
REFRESH-INTERVAL;VALUE=DURATION:PT1H
X-Robots-Tag:noindex
X-PUBLISHED-TTL:PT1H
BEGIN:VTIMEZONE
TZID:America/Detroit
BEGIN:DAYLIGHT
TZOFFSETFROM:-0500
TZOFFSETTO:-0400
TZNAME:EDT
DTSTART:20240310T070000
END:DAYLIGHT
BEGIN:STANDARD
TZOFFSETFROM:-0400
TZOFFSETTO:-0500
TZNAME:EST
DTSTART:20241103T060000
END:STANDARD
BEGIN:DAYLIGHT
TZOFFSETFROM:-0500
TZOFFSETTO:-0400
TZNAME:EDT
DTSTART:20250309T070000
END:DAYLIGHT
BEGIN:STANDARD
TZOFFSETFROM:-0400
TZOFFSETTO:-0500
TZNAME:EST
DTSTART:20251102T060000
END:STANDARD
BEGIN:DAYLIGHT
TZOFFSETFROM:-0500
TZOFFSETTO:-0400
TZNAME:EDT
DTSTART:20260308T070000
END:DAYLIGHT
BEGIN:STANDARD
TZOFFSETFROM:-0400
TZOFFSETTO:-0500
TZNAME:EST
DTSTART:20261101T060000
END:STANDARD
END:VTIMEZONE
BEGIN:VEVENT
DTSTART;TZID=America/Detroit:20251108T200000
DTEND;TZID=America/Detroit:20251108T213000
DTSTAMP:20260425T064234
CREATED:20251031T150857Z
LAST-MODIFIED:20251031T150857Z
UID:55720-1762632000-1762637400@develop-review-hart-desti-07sbl4.dev02.devhart.com
SUMMARY:7 Bridges: The Ultimate Eagles Experience
DESCRIPTION:Get ready for an unforgettable night of timeless hits! \n\n\nStop by the Hollywood Casino on Saturday\, November 8th from 8PM – 9:30 PM as 7 Bridges: The Ultimate Eagles Experience brings the iconic sound of one of America’s greatest bands to life inside H-Lounge. \n\nFrom Hotel California to Take It to the Limit\, every note\, every harmony\, and every guitar riff is performed with stunning accuracy — it’s the closest thing to seeing the Eagles live. \n\nH-Lounge · Hollywood Casino ToledoSaturday\, November 8 · 8PM – 9:30PM\nFree Admission · 21+ only (VIP tickets available)\n\nSing along\, grab a drink\, and let the music take you back!
URL:https://develop-review-hart-desti-07sbl4.dev02.devhart.com/event/7-bridges-the-ultimate-eagles-experience
LOCATION:Hollywood Casino\, 1968 Miami St\, Toledo\, OH\, 43605\, United States
CATEGORIES:casino,concert,live music
ATTACH;FMTTYPE=image/png:https://minio.devhart.com/destination-toledo-website/wp-content/uploads/2025/10/17105328/7-bridges-easgles-tribute-band-hollywood-casino-4x3-event-image.png
END:VEVENT
END:VCALENDAR