BEGIN:VCALENDAR
VERSION:2.0
PRODID:-//Destination Toledo - ECPv6.15.17.1//NONSGML v1.0//EN
CALSCALE:GREGORIAN
METHOD:PUBLISH
X-ORIGINAL-URL:https://develop-review-hart-desti-07sbl4.dev02.devhart.com
X-WR-CALDESC:Events for Destination Toledo
REFRESH-INTERVAL;VALUE=DURATION:PT1H
X-Robots-Tag:noindex
X-PUBLISHED-TTL:PT1H
BEGIN:VTIMEZONE
TZID:America/Detroit
BEGIN:DAYLIGHT
TZOFFSETFROM:-0500
TZOFFSETTO:-0400
TZNAME:EDT
DTSTART:20240310T070000
END:DAYLIGHT
BEGIN:STANDARD
TZOFFSETFROM:-0400
TZOFFSETTO:-0500
TZNAME:EST
DTSTART:20241103T060000
END:STANDARD
BEGIN:DAYLIGHT
TZOFFSETFROM:-0500
TZOFFSETTO:-0400
TZNAME:EDT
DTSTART:20250309T070000
END:DAYLIGHT
BEGIN:STANDARD
TZOFFSETFROM:-0400
TZOFFSETTO:-0500
TZNAME:EST
DTSTART:20251102T060000
END:STANDARD
BEGIN:DAYLIGHT
TZOFFSETFROM:-0500
TZOFFSETTO:-0400
TZNAME:EDT
DTSTART:20260308T070000
END:DAYLIGHT
BEGIN:STANDARD
TZOFFSETFROM:-0400
TZOFFSETTO:-0500
TZNAME:EST
DTSTART:20261101T060000
END:STANDARD
END:VTIMEZONE
BEGIN:VEVENT
DTSTART;TZID=America/Detroit:20250404T200000
DTEND;TZID=America/Detroit:20250404T230000
DTSTAMP:20260420T023505
CREATED:20250322T172116Z
LAST-MODIFIED:20250322T172445Z
UID:39812-1743796800-1743807600@develop-review-hart-desti-07sbl4.dev02.devhart.com
SUMMARY:The Menus at Hollywood Casino
DESCRIPTION:Join us for a crowd favorite – The Menus!\nThe Menus were formed in 1983 in a small basement of a small house on the west side of Cincinnati\, OH. A very young and green lineup ended up turning into one of the most successful Cincinnati based cover bands!\nMust be 21 or over to play. Gambling problem? \nCall 1-800-589-9966 or visit org.ohio.gov for help.
URL:https://develop-review-hart-desti-07sbl4.dev02.devhart.com/event/the-menus-at-hollywood-casino
LOCATION:Hollywood Casino\, 1968 Miami St\, Toledo\, OH\, 43605\, United States
CATEGORIES:casino,live music
ATTACH;FMTTYPE=image/png:https://minio.devhart.com/destination-toledo-website/wp-content/uploads/2025/03/17111843/the-menus-4x3-event-image.png
END:VEVENT
BEGIN:VEVENT
DTSTART;TZID=America/Detroit:20250405T200000
DTEND;TZID=America/Detroit:20250405T230000
DTSTAMP:20260420T023505
CREATED:20250322T172914Z
LAST-MODIFIED:20250322T172914Z
UID:39814-1743883200-1743894000@develop-review-hart-desti-07sbl4.dev02.devhart.com
SUMMARY:Gasoline Alley at Hollywood Casino
DESCRIPTION:Join us for a crowd favorite – Gasoline Alley!\nRock out with one of the region’s most experienced all-star rock cover bands!\nMust be 21 or over to play. Gambling problem? \nCall 1-800-589-9966 or visit org.ohio.gov for help.
URL:https://develop-review-hart-desti-07sbl4.dev02.devhart.com/event/gasoline-alley-at-hollywood-casino
LOCATION:Hollywood Casino\, 1968 Miami St\, Toledo\, OH\, 43605\, United States
CATEGORIES:casino,live music
ATTACH;FMTTYPE=image/png:https://minio.devhart.com/destination-toledo-website/wp-content/uploads/2025/03/17111842/gasoline-alley-4x3-event-image.png
END:VEVENT
BEGIN:VEVENT
DTSTART;TZID=America/Detroit:20250411T200000
DTEND;TZID=America/Detroit:20250411T230000
DTSTAMP:20260420T023505
CREATED:20250407T193600Z
LAST-MODIFIED:20250407T193600Z
UID:46243-1744401600-1744412400@develop-review-hart-desti-07sbl4.dev02.devhart.com
SUMMARY:Whiskey Gypsy at Hollywood Casino
DESCRIPTION:Whiskey Gypsy makes their Hollywood Casion debut! \nWHISKEY GYPSY is a five-piece Party-Rock-Pop-Modern Country cover band\, led by two female vocalists. Members are established professionals with most having decades of stage experience. They play a wide variety of dance and party music spanning multiple decades from the 60’s to today.
URL:https://develop-review-hart-desti-07sbl4.dev02.devhart.com/event/whiskey-gypsy-at-hollywood-casino
LOCATION:Hollywood Casino\, 1968 Miami St\, Toledo\, OH\, 43605\, United States
CATEGORIES:casino,live music
ATTACH;FMTTYPE=image/png:https://minio.devhart.com/destination-toledo-website/wp-content/uploads/2025/04/17111616/whiskey-gypsy-4x3-event-image.png
END:VEVENT
BEGIN:VEVENT
DTSTART;TZID=America/Detroit:20250412T200000
DTEND;TZID=America/Detroit:20250412T230000
DTSTAMP:20260420T023505
CREATED:20250322T171431Z
LAST-MODIFIED:20250322T171431Z
UID:39810-1744488000-1744498800@develop-review-hart-desti-07sbl4.dev02.devhart.com
SUMMARY:Rumours - Fleetwood Mac Tribute at Hollywood Casino
DESCRIPTION:Join us for a crowd favorite – The Fleetwood Mac Tribute!\nRumours was formed in Los Angeles\, CA\, the Summer of 2012. Since then\, they have traveled all of North America\, and meticulously put together a show that spares no detail. Recreating the band’s legendary persona\, in all it’s youthful glory from 1975-1987.\nBe sure to take advantage of this FREE admission show. Catch dinner before the show at any of our amazing restaurants.\nMust be 21 or over to play. Gambling problem? \nCall 1-800-589-9966 or visit org.ohio.gov for help.
URL:https://develop-review-hart-desti-07sbl4.dev02.devhart.com/event/rumours-fleetwood-mac-tribute-at-hollywood-casino
LOCATION:Hollywood Casino\, 1968 Miami St\, Toledo\, OH\, 43605\, United States
CATEGORIES:casino,live music
ATTACH;FMTTYPE=image/png:https://minio.devhart.com/destination-toledo-website/wp-content/uploads/2025/03/17111844/rumours-4x3-event-image.png
END:VEVENT
BEGIN:VEVENT
DTSTART;TZID=America/Detroit:20250418T200000
DTEND;TZID=America/Detroit:20250418T230000
DTSTAMP:20260420T023505
CREATED:20250408T201704Z
LAST-MODIFIED:20250408T201704Z
UID:46386-1745006400-1745017200@develop-review-hart-desti-07sbl4.dev02.devhart.com
SUMMARY:Andi Jo Taylor at Hollywood Casino
DESCRIPTION:Andi Jo Taylor\, Ohio’s Princess of Country\, brings her high-energy act to the stage at Hollywood Casino!
URL:https://develop-review-hart-desti-07sbl4.dev02.devhart.com/event/andi-jo-taylor-at-hollywood-casino
LOCATION:Hollywood Casino\, 1968 Miami St\, Toledo\, OH\, 43605\, United States
CATEGORIES:casino,country music,live music
ATTACH;FMTTYPE=image/png:https://minio.devhart.com/destination-toledo-website/wp-content/uploads/2025/04/17111546/andi-jo-taylor-4x3-event-image.png
END:VEVENT
BEGIN:VEVENT
DTSTART;TZID=America/Detroit:20250419T200000
DTEND;TZID=America/Detroit:20250419T230000
DTSTAMP:20260420T023505
CREATED:20250411T172841Z
LAST-MODIFIED:20250411T173334Z
UID:46700-1745092800-1745103600@develop-review-hart-desti-07sbl4.dev02.devhart.com
SUMMARY:Arctic Clam at Hollywood Casino
DESCRIPTION:Arctic Clam is a Toledo based rock cover band comprised of long time musicians lead by vocalist Nicole Khoury and drummer Scott Hayes.  The pair is joined by original guitarist Mick Mason and bassist Steve Knurek and also features Johannes Ronquillo\, and Grace Mauk. \nArctic Clam has opened for National Acts including\, Joan Jett and The Blackhearts\, George Clinton and Parliament Funkadelic\, Skid Row\, Rusted Root\, Collective Soul\, John Waite\, Berlin\, Little River Band\, Eddie Money\, Lou Graham\, Micki Thomas\, Steve Augeri\, and Crystal Bowersox.
URL:https://develop-review-hart-desti-07sbl4.dev02.devhart.com/event/arctic-clam-at-hollywood-casino
LOCATION:Hollywood Casino\, 1968 Miami St\, Toledo\, OH\, 43605\, United States
CATEGORIES:casino,live music
ATTACH;FMTTYPE=image/png:https://minio.devhart.com/destination-toledo-website/wp-content/uploads/2025/04/17111503/arctic-clam-4x3-event-image.png
END:VEVENT
END:VCALENDAR