BEGIN:VCALENDAR
VERSION:2.0
PRODID:-//Destination Toledo - ECPv6.15.17.1//NONSGML v1.0//EN
CALSCALE:GREGORIAN
METHOD:PUBLISH
X-ORIGINAL-URL:https://develop-review-hart-desti-07sbl4.dev02.devhart.com
X-WR-CALDESC:Events for Destination Toledo
REFRESH-INTERVAL;VALUE=DURATION:PT1H
X-Robots-Tag:noindex
X-PUBLISHED-TTL:PT1H
BEGIN:VTIMEZONE
TZID:America/Detroit
BEGIN:DAYLIGHT
TZOFFSETFROM:-0500
TZOFFSETTO:-0400
TZNAME:EDT
DTSTART:20240310T070000
END:DAYLIGHT
BEGIN:STANDARD
TZOFFSETFROM:-0400
TZOFFSETTO:-0500
TZNAME:EST
DTSTART:20241103T060000
END:STANDARD
BEGIN:DAYLIGHT
TZOFFSETFROM:-0500
TZOFFSETTO:-0400
TZNAME:EDT
DTSTART:20250309T070000
END:DAYLIGHT
BEGIN:STANDARD
TZOFFSETFROM:-0400
TZOFFSETTO:-0500
TZNAME:EST
DTSTART:20251102T060000
END:STANDARD
BEGIN:DAYLIGHT
TZOFFSETFROM:-0500
TZOFFSETTO:-0400
TZNAME:EDT
DTSTART:20260308T070000
END:DAYLIGHT
BEGIN:STANDARD
TZOFFSETFROM:-0400
TZOFFSETTO:-0500
TZNAME:EST
DTSTART:20261101T060000
END:STANDARD
END:VTIMEZONE
BEGIN:VEVENT
DTSTART;TZID=America/Detroit:20250628T100000
DTEND;TZID=America/Detroit:20250629T170000
DTSTAMP:20260419T230455
CREATED:20250626T182923Z
LAST-MODIFIED:20250626T182923Z
UID:53028-1751104800-1751216400@develop-review-hart-desti-07sbl4.dev02.devhart.com
SUMMARY:Lucas County Strawberry Fest
DESCRIPTION:Lucas County Strawberry Fest: June 28 & 29\, 2025. At the Lucas County Fairgrounds. Saturday & Sunday 10am-5pm.\n\nYou can expect:\nFamily Fun & Festivities\, Fresh Strawberries\, Art & Crafts\, Beer & Wine\, Delicious Food\, Free Frisbee Dog Show\, Free Bounce Houses\, Strawberry Shortcake\, Live Entertainment\, Free Rock Painting\, Strawberry Fudge\, Pony Rides\, Free Strawberry Relay\, Face Painting\, Free Hula Hoop Contest\, Pie Eating Contest\, Free Petting Farm\, Berry Cute Baby Contest\, Free Sack Races\, Free Corn Hole\, Yummy Treats & Much More!\n\nAdmission is $6 Cash Only\, Kids 2 & Under Free. For a $1 off admission\, visit their website for coupon or bring a canned good for discount and benefits a local food pantry.
URL:https://develop-review-hart-desti-07sbl4.dev02.devhart.com/event/lucas-county-strawberry-fest
LOCATION:Lucas County Fairgrounds\, 1406 Key St\, Maumee\, OH\, 43537\, United States
CATEGORIES:art,Beer,crafts,entertainment,family friendly,Festival,food,wine
ATTACH;FMTTYPE=image/png:https://minio.devhart.com/destination-toledo-website/wp-content/uploads/2025/06/17110713/strawberry-fest-lucas-county-2025-4x3-event-image.png
END:VEVENT
END:VCALENDAR