BEGIN:VCALENDAR
VERSION:2.0
PRODID:-//Destination Toledo - ECPv6.15.17.1//NONSGML v1.0//EN
CALSCALE:GREGORIAN
METHOD:PUBLISH
X-WR-CALNAME:Destination Toledo
X-ORIGINAL-URL:https://develop-review-hart-desti-07sbl4.dev02.devhart.com
X-WR-CALDESC:Events for Destination Toledo
REFRESH-INTERVAL;VALUE=DURATION:PT1H
X-Robots-Tag:noindex
X-PUBLISHED-TTL:PT1H
BEGIN:VTIMEZONE
TZID:America/Detroit
BEGIN:DAYLIGHT
TZOFFSETFROM:-0500
TZOFFSETTO:-0400
TZNAME:EDT
DTSTART:20240310T070000
END:DAYLIGHT
BEGIN:STANDARD
TZOFFSETFROM:-0400
TZOFFSETTO:-0500
TZNAME:EST
DTSTART:20241103T060000
END:STANDARD
BEGIN:DAYLIGHT
TZOFFSETFROM:-0500
TZOFFSETTO:-0400
TZNAME:EDT
DTSTART:20250309T070000
END:DAYLIGHT
BEGIN:STANDARD
TZOFFSETFROM:-0400
TZOFFSETTO:-0500
TZNAME:EST
DTSTART:20251102T060000
END:STANDARD
BEGIN:DAYLIGHT
TZOFFSETFROM:-0500
TZOFFSETTO:-0400
TZNAME:EDT
DTSTART:20260308T070000
END:DAYLIGHT
BEGIN:STANDARD
TZOFFSETFROM:-0400
TZOFFSETTO:-0500
TZNAME:EST
DTSTART:20261101T060000
END:STANDARD
BEGIN:DAYLIGHT
TZOFFSETFROM:-0500
TZOFFSETTO:-0400
TZNAME:EDT
DTSTART:20270314T070000
END:DAYLIGHT
BEGIN:STANDARD
TZOFFSETFROM:-0400
TZOFFSETTO:-0500
TZNAME:EST
DTSTART:20271107T060000
END:STANDARD
END:VTIMEZONE
BEGIN:VEVENT
DTSTART;TZID=America/Detroit:20251028T000000
DTEND;TZID=America/Detroit:20260104T235959
DTSTAMP:20260422T020755
CREATED:20251028T201349Z
LAST-MODIFIED:20251028T201540Z
UID:55677-1761609600-1767571199@develop-review-hart-desti-07sbl4.dev02.devhart.com
SUMMARY:Traveling Bricks
DESCRIPTION:Big fun is stacking up at Imagination Station! Learn about the history of travel with 120 creations made of LEGO® bricks\, from nearly one million LEGO® pieces. From trains\, steamboats\, cars\, and jets\, you’ll see history\, technology\, engineering\, and artistry combine one brick at a time. \nTraveling Bricks is included with admission or an Imagination Station membership!
URL:https://develop-review-hart-desti-07sbl4.dev02.devhart.com/event/traveling-bricks
LOCATION:Ohio
CATEGORIES:educational,family friendly
ATTACH;FMTTYPE=image/png:https://minio.devhart.com/destination-toledo-website/wp-content/uploads/2025/10/17105334/traveling-bricks-4x3-event-image.png
END:VEVENT
BEGIN:VEVENT
DTSTART;TZID=America/Detroit:20251030T000000
DTEND;TZID=America/Detroit:20260118T235959
DTSTAMP:20260422T020755
CREATED:20251030T213754Z
LAST-MODIFIED:20251030T213754Z
UID:55711-1761782400-1768780799@develop-review-hart-desti-07sbl4.dev02.devhart.com
SUMMARY:Radiance and Reverie: Jewels from the Collection of Neil Lane
DESCRIPTION:Step into a world where artistry and adornment meet at the Toledo Museum of Art. Radiance and Reverie: Jewels from the Collection of Neil Lane invites you to discover the exquisite craftsmanship and timeless beauty of jewelry from the personal collection of Neil Lane\, celebrated designer to the stars\, through January 18\, 2026. Each piece tells a story of glamour\, history\, and the enduring allure of wearable art. \nReserve your ticket today and experience these treasures up close. \nTicket Age Ranges \nUnless otherwise noted\, ticket categories are defined as follows: \n• Ages 0–4: Free\, no ticket required\n• Ages 5–17: Child ticket\n• Ages 18 and up: Adult ticket \nThese age ranges apply to events and exhibition tickets only. Programs such as classes and the Family Center may follow different guidelines. \nLearn more about the exhibit on the Toledo Museum of Art website. 
URL:https://develop-review-hart-desti-07sbl4.dev02.devhart.com/event/radiance-and-reverie-jewels-from-the-collection-of-neil-lane
LOCATION:Toledo Museum of Art\, 2445 Monroe St\, Toledo\, OH\, 43620\, United States
CATEGORIES:art,educational,museum
ATTACH;FMTTYPE=image/png:https://minio.devhart.com/destination-toledo-website/wp-content/uploads/2025/10/17105329/tma-exhibit-Radiance-and-Reverie-4x3-event-image.png
END:VEVENT
BEGIN:VEVENT
DTSTART;TZID=America/Detroit:20251107T000000
DTEND;TZID=America/Detroit:20251110T235959
DTSTAMP:20260422T020755
CREATED:20250522T171123Z
LAST-MODIFIED:20250522T171221Z
UID:52245-1762473600-1762819199@develop-review-hart-desti-07sbl4.dev02.devhart.com
SUMMARY:50th Anniversary Edmund Fitzgerald Tribute
DESCRIPTION:The SS Edmund Fitzgerald\, one of the largest and most famous freighters to sail the Great Lakes\, sank during a fierce storm on Lake Superior on November 10\, 1975\, taking the lives of all 29 crew members aboard. Its mysterious sinking remains one of the Great Lakes’ most captivating stories\, elevated even further by the popular 1976 Gordon Lightfoot song “The Wreck of the Edmund Fitzgerald“. The ship was often called the “Toledo Express” because the majority of the crew and the captain resided in Toledo—making it a significant Great Lakes connection directly related to our hometown. \nNow\, 50 years later\, the National Museum of the Great Lakes plans to honor the ship and crew’s memory with a weekend of unforgettable events\, special performances\, and meaningful reflections as well as numerous activities in the months leading up to the anniversary. \nFor a full schedule of unforgettable events\, special performances\, and meaningful reflections visit the National Museum of the Great Lakes website.
URL:https://develop-review-hart-desti-07sbl4.dev02.devhart.com/event/50th-anniversary-edmund-fitzgerald-tribute
LOCATION:Ohio
CATEGORIES:educational,history
ATTACH;FMTTYPE=image/png:https://minio.devhart.com/destination-toledo-website/wp-content/uploads/2025/05/17111100/NMGL-Edmund-Fitzgerald-anniversary-4x3-event-image.png
END:VEVENT
BEGIN:VEVENT
DTSTART;TZID=America/Detroit:20250715T000000
DTEND;TZID=America/Detroit:20250715T235959
DTSTAMP:20260422T020755
CREATED:20250715T123451Z
LAST-MODIFIED:20250715T123632Z
UID:53507-1752537600-1752623999@develop-review-hart-desti-07sbl4.dev02.devhart.com
SUMMARY:Infinite Images: The Art of Algorithms
DESCRIPTION:Explore the intersection of art and technology in Infinite Images: The Art of Algorithms. This exhibition highlights the innovative ways artists use code\, systems\, and generative processes to create visually striking works that challenge how we define creativity. From early experiments in computer art to today’s algorithm-driven visuals\, discover how artists are reimagining image-making in the digital age. \nDon’t miss this rare opportunity; reserve your exhibition tickets today.
URL:https://develop-review-hart-desti-07sbl4.dev02.devhart.com/event/infinite-images-the-art-of-algorithms
LOCATION:Toledo Museum of Art\, 2445 Monroe St\, Toledo\, OH\, 43620\, United States
CATEGORIES:art,educational
ATTACH;FMTTYPE=image/png:https://minio.devhart.com/destination-toledo-website/wp-content/uploads/2025/07/17110539/Infinite-Images-tma-exhibit-4x3-event-image.png
END:VEVENT
BEGIN:VEVENT
DTSTART;TZID=America/Detroit:20251101T170000
DTEND;TZID=America/Detroit:20251101T180000
DTSTAMP:20260422T020755
CREATED:20251014T173432Z
LAST-MODIFIED:20251014T173432Z
UID:55145-1762016400-1762020000@develop-review-hart-desti-07sbl4.dev02.devhart.com
SUMMARY:CedarCreek's At The Movies
DESCRIPTION:There’s magic in movies. The action\, the drama\, the stories\, the soundtracks\, and let’s not forget the popcorn! Movies can often help us escape from our real life\, but also reflect on it too. That’s why CedarCreek Church created a movie experience that has become the highest-rated series of our church over the last few years. \nJoin CedarCeeek Church this November for free popcorn\, extended movie clips with a teaching straight from the Bible\, and a perfect opportunity to bring a friend. All the magic without any of the cost – At the Movies is back this November! \nAt The Movies runs every weekend from November 1st to November 30th during their regular service times. Due to copyright restrictions\, this series is only played in person. Their online stream will feature encore presentations of some of the most popular sermons from the past year! \nFor more information\, including service times and locations\, visit: https://www.cedarcreek.tv/events/at-the-movies
URL:https://develop-review-hart-desti-07sbl4.dev02.devhart.com/event/cedarcreeks-at-the-movies
LOCATION:CedarCreek Church\, 29129 Lime City Rd\, Perrysburg\, 43551
CATEGORIES:film,live music,movie,Speaker
ATTACH;FMTTYPE=image/jpeg:https://minio.devhart.com/destination-toledo-website/wp-content/uploads/2025/10/17105553/at-the-movies-facebook-event-cover.jpg
ORGANIZER;CN="CedarCreek Church":MAILTO:info@cedarcreek.tv
END:VEVENT
BEGIN:VEVENT
DTSTART;TZID=America/Detroit:20251109T100000
DTEND;TZID=America/Detroit:20251109T160000
DTSTAMP:20260422T020755
CREATED:20251103T162242Z
LAST-MODIFIED:20251103T162242Z
UID:55713-1762682400-1762704000@develop-review-hart-desti-07sbl4.dev02.devhart.com
SUMMARY:Glass City Record Show
DESCRIPTION:Stop by Northwest Ohio’s Best Record Show on Sunday\, Nov. 9\, at The Stranahan. \nDig through 70+ tables packed with new and pre-loved LPs\, 45s\, CDs\, cassettes\, memorabilia\, posters\, vintage stereo gear\, storage supplies\, and more. Expect everything from classic rock\, pop\, metal\, punk\, prog\, and ’80s favorites to blues\, jazz\, soul\, R&B\, country\, bluegrass\, and beyond. \nHours: 10 a.m.–4 p.m.\nGeneral admission: $2 . This is a cash-only event. Please be aware that The Stranahan is a cashless establishment\, and there’s no ATM on-site.\nGrab food and drinks (including a full bar) from the concession stand – open all day.\nDoor prize drawings at 11 a.m. and 1 p.m.\nThe First 75 attendees will receive a free record tote bag from BCW Supplies\, which will also be on-site with sleeves\, boxes\, and more.\nCash is preferred for music purchases. Some vendors accept cards\, PayPal\, Venmo\, and Zelle. \nGot records to sell? Bring ’em along\, or reach out to Jeremy! \nFor more info\, visit ftrvinyl.com/glass-city-record-show
URL:https://develop-review-hart-desti-07sbl4.dev02.devhart.com/event/glass-city-record-show-3
LOCATION:The Stranahan\, 4645 Heatherdowns Blvd\, Toledo\, OH\, 43614\, United States
CATEGORIES:shopping
ATTACH;FMTTYPE=image/jpeg:https://minio.devhart.com/destination-toledo-website/wp-content/uploads/2025/10/17105329/Glass-City-Record-Show-Stranahan-02-16-2025-12.jpg
END:VEVENT
BEGIN:VEVENT
DTSTART;TZID=America/Detroit:20251108T110000
DTEND;TZID=America/Detroit:20251108T180000
DTSTAMP:20260422T020755
CREATED:20251002T145844Z
LAST-MODIFIED:20251002T162747Z
UID:54983-1762599600-1762624800@develop-review-hart-desti-07sbl4.dev02.devhart.com
SUMMARY:Fallen Timbers Art Festival
DESCRIPTION:The Fallen Timbers Art Festival\, presented by the Anthony Wayne Area Arts Commission in partnership with the Shops at Fallen Timbers\, returns on Saturday\, November 8 from 11 AM – 6 PM and Sunday\, November 9 from 11 AM – 4 PM at the former Gap space (Suite 445\, corner of Main & Maple). This free two-day event showcases the incredible work of 38 talented local artists\, offering visitors the chance to browse and purchase unique artwork just in time for the holidays. Guests can also enjoy wine tastings from Majestic Oak Winery\, Four Fires Meadery\, and Chateau Winery & Vineyard\, along with delicious food from local food trucks like Lyle’s Crepes\, Wandering Bean Coffee (Saturday)\, and Bucking Barista (Sunday).Shoppers won’t want to miss the daily Silent Auctions\, featuring more than 50 items each day\, from original art to gift baskets and more. Proceeds benefit the Anthony Wayne Area Arts Commission and the Creative Arts Program at Bittersweet Farms. With art\, wine\, food\, and community spirit\, the Fallen Timbers Art Festival is the perfect way to celebrate creativity in Maumee.
URL:https://develop-review-hart-desti-07sbl4.dev02.devhart.com/event/fallen-timbers-art-festival
LOCATION:The Shops at Fallen Timbers\, 3100 Main Street\, Suite 1599\, Maumee\, Ohio\, 43537\, United States
CATEGORIES:art,crafts,family friendly,Festival,shopping
ATTACH;FMTTYPE=image/png:https://minio.devhart.com/destination-toledo-website/wp-content/uploads/2025/10/17105700/fallen-timbers-art-festival-4x3-event-image.png
END:VEVENT
BEGIN:VEVENT
DTSTART;TZID=America/Detroit:20250928T120000
DTEND;TZID=America/Detroit:20250928T140000
DTSTAMP:20260422T020755
CREATED:20250923T182605Z
LAST-MODIFIED:20250923T182605Z
UID:54760-1759060800-1759068000@develop-review-hart-desti-07sbl4.dev02.devhart.com
SUMMARY:Boozy Brunch Bingo
DESCRIPTION:Spend your Sunday at Toledo Spirits’ Bellwether with Boozy Brunch Bingo! From 11 AM – 3 PM\, enjoy craft cocktails and delicious brunch dishes\, then join the fun and test your luck during Bingo from Noon – 2 PM. With exciting prizes\, a lively atmosphere\, and a family-friendly vibe\, this event is perfect for friends\, family\, and anyone looking to wrap up the weekend with food\, drinks\, and friendly competition. Location: Bellwether at Toledo Spirits\, 1301 N Summit St\, Toledo.
URL:https://develop-review-hart-desti-07sbl4.dev02.devhart.com/event/boozy-brunch-bingo
LOCATION:Toledo Spirits Company\, 1301 N Summit St\, Toledo\, OH\, 43604\, United States
CATEGORIES:cocktails,entertainment
ATTACH;FMTTYPE=image/png:https://minio.devhart.com/destination-toledo-website/wp-content/uploads/2025/09/17105824/toledo-spirits-boozy-brunch-bingo-4x3-event-image.png
END:VEVENT
BEGIN:VEVENT
DTSTART;TZID=America/Detroit:20251109T140000
DTEND;TZID=America/Detroit:20251109T160000
DTSTAMP:20260422T020755
CREATED:20251017T170624Z
LAST-MODIFIED:20251017T171110Z
UID:55454-1762696800-1762704000@develop-review-hart-desti-07sbl4.dev02.devhart.com
SUMMARY:Toledo Rockets Women's Basketball vs. Gonzaga
DESCRIPTION:Get ready for a marquee non-conference matchup as the Toledo Rockets women’s basketball team takes on the Gonzaga Bulldogs at Savage Arena on Sunday\, November 9\, 2025. \nLed by head coach Ginny Boggess\, now in her second season\, the Rockets are building on a stellar 24–9 campaign and a run to the MAC Tournament Championship. Veterans Kendall Carruthers\, Cadence Dykstra\, Ella Weaver\, and Faith Fedd-Robinson return to anchor a hungry\, talented roster looking to make a statement early in the 2025–26 season. \nToledo’s home-court advantage is one of the best in the nation—Savage Arena has led the MAC in attendance for 30 consecutive seasons and consistently ranks among the Top 30 nationally for fan support. Don’t miss the chance to see high-level women’s basketball\, electric energy\, and a community that loves its Rockets. \n🎟️ Tickets and Info: UTRockets.com/WBBtix📍 Location: Savage Arena\, University of Toledo🕒 Date: Sunday\, November 9\, 2025
URL:https://develop-review-hart-desti-07sbl4.dev02.devhart.com/event/toledo-rockets-womens-basketball-vs-gonzaga
LOCATION:University of Toledo\, 2801 W Bancroft St\, Toledo\, Ohio\, 43606\, United States
CATEGORIES:sports
ATTACH;FMTTYPE=image/png:https://minio.devhart.com/destination-toledo-website/wp-content/uploads/2025/10/17105423/ut-rockets-womens-basketball-4x3-event-image.png
END:VEVENT
BEGIN:VEVENT
DTSTART;TZID=America/Detroit:20251109T170000
DTEND;TZID=America/Detroit:20251109T200000
DTSTAMP:20260422T020755
CREATED:20250814T151755Z
LAST-MODIFIED:20250814T153857Z
UID:54082-1762707600-1762718400@develop-review-hart-desti-07sbl4.dev02.devhart.com
SUMMARY:Toledo Walleye vs. Iowa Heartlanders
DESCRIPTION:The Toledo Walleye are back for another exciting season of hockey at the Huntington Center! They continue their home slate on Sunday\, Nov. 9 with a visit from the Iowa Heartlanders. \nBuilding on last season’s successful campaign\, the Walleye look to bring the ECHL’s Kelly Cup to Toledo and continue their league leading home sell-out streak. \nGATES OPEN: 4:00 p.m.PUCK DROP: 5:15 p.m. \nSpecial Promotion: Eras Night (Walleye Version)\nCalling all Swifties! The night features a tribute to T-Swift with a pregame Swiftie Soiree\, music from across the Eras\, and a postgame skate to Taylor’s hits.
URL:https://develop-review-hart-desti-07sbl4.dev02.devhart.com/event/toledo-walleye-vs-iowa-heartlanders-2025
LOCATION:Huntington Center\, 500 Jefferson Ave\, Toledo\, OH\, 43604\, United States
CATEGORIES:hockey,sports
ATTACH;FMTTYPE=image/jpeg:https://minio.devhart.com/destination-toledo-website/wp-content/uploads/2024/12/18102750/Walleye-Events-Graphic.jpg
END:VEVENT
BEGIN:VEVENT
DTSTART;TZID=America/Detroit:20251012T183000
DTEND;TZID=America/Detroit:20251012T210000
DTSTAMP:20260422T020755
CREATED:20251006T152518Z
LAST-MODIFIED:20251006T152518Z
UID:55073-1760293800-1760302800@develop-review-hart-desti-07sbl4.dev02.devhart.com
SUMMARY:Sunday Night Comedy at Home Slice Pizza
DESCRIPTION:Every Sunday | Seating at 6:30 PM | Show 7:00–8:45 PM\nEnd your weekend with a slice of laughter at Home Slice Pizza during Sunday Night Comedy\, presented by Crumbley Comedy. This free weekly showcase features a rotating lineup of top touring comedians\, regional talent\, and local rising stars — all served up in one of Toledo’s favorite hangouts. \nGrab a pizza\, order a drink\, and settle in for a night of nonstop laughs in a laid-back\, welcoming atmosphere. With delicious food\, great company\, and hilarious stand-up\, Sunday nights at Home Slice are the perfect way to wrap up your weekend. \nNo cover — just pizza\, pints\, and punchlines every Sunday night!
URL:https://develop-review-hart-desti-07sbl4.dev02.devhart.com/event/sunday-night-comedy-at-home-slice-pizza
LOCATION:Home Slice Pizza\, 28 S Saint Clair St\, Toledo\, 43604\, United States
CATEGORIES:comedy,entertainment
ATTACH;FMTTYPE=image/png:https://minio.devhart.com/destination-toledo-website/wp-content/uploads/2025/10/17105647/crumbley-comedy-sunday-home-slice-pizza-4x3-event-image.png
END:VEVENT
BEGIN:VEVENT
DTSTART;TZID=America/Detroit:20251109T190000
DTEND;TZID=America/Detroit:20251109T213000
DTSTAMP:20260422T020755
CREATED:20251103T191957Z
LAST-MODIFIED:20251103T191957Z
UID:55802-1762714800-1762723800@develop-review-hart-desti-07sbl4.dev02.devhart.com
SUMMARY:The Wreck of the Edmund Fitzgerald: An Evening with Meredith Moon
DESCRIPTION:The Valentine proudly presents Gordon Lightfoot’s daughter\, the singer\, songwriter\, and musician\, Meredith Moon! Miss Moon will sing her father’s mega-hit\, The Wreck of the Edmund Fitzgerald\, along with her own folk and roots influenced compositions. Miss Moon’s Valentine appearance\, is part of the weekend long National Museum of the Great Lakes commemoration of the 50th Anniversary of the sinking of the Edmund Fitzgerald. Moon will also share with the audience how her father’s recording of “The Wreck” influenced her family life\, and her own career path. Conversations and music for all ages to enjoy.\n\nMoon is the daughter of legendary singer-songwriter Gordon Lightfoot. It’s not that Moon actively hid this fact\, but she has made efforts since entering the spotlight to ensure her music speaks for itself. That included adopting her mother’s maiden name. Even when she opened for Lightfoot for some 2022 dates\, before his death\, neither mentioned the connection to the audience. Meredith’s genre is in roots and folk music.
URL:https://develop-review-hart-desti-07sbl4.dev02.devhart.com/event/the-wreck-of-the-edmund-fitzgerald-an-evening-with-meredith-moon
LOCATION:Valentine Theatre\, 410 Adams St\, Toledo\, OH\, 43604\, United States
CATEGORIES:entertainment,live music
ATTACH;FMTTYPE=image/png:https://minio.devhart.com/destination-toledo-website/wp-content/uploads/2025/11/17105310/valentine-meredith-moon-4x3-event-image.png
END:VEVENT
END:VCALENDAR