BEGIN:VCALENDAR
VERSION:2.0
PRODID:-//Destination Toledo - ECPv6.15.17.1//NONSGML v1.0//EN
CALSCALE:GREGORIAN
METHOD:PUBLISH
X-ORIGINAL-URL:https://develop-review-hart-desti-07sbl4.dev02.devhart.com
X-WR-CALDESC:Events for Destination Toledo
REFRESH-INTERVAL;VALUE=DURATION:PT1H
X-Robots-Tag:noindex
X-PUBLISHED-TTL:PT1H
BEGIN:VTIMEZONE
TZID:America/Detroit
BEGIN:DAYLIGHT
TZOFFSETFROM:-0500
TZOFFSETTO:-0400
TZNAME:EDT
DTSTART:20240310T070000
END:DAYLIGHT
BEGIN:STANDARD
TZOFFSETFROM:-0400
TZOFFSETTO:-0500
TZNAME:EST
DTSTART:20241103T060000
END:STANDARD
BEGIN:DAYLIGHT
TZOFFSETFROM:-0500
TZOFFSETTO:-0400
TZNAME:EDT
DTSTART:20250309T070000
END:DAYLIGHT
BEGIN:STANDARD
TZOFFSETFROM:-0400
TZOFFSETTO:-0500
TZNAME:EST
DTSTART:20251102T060000
END:STANDARD
BEGIN:DAYLIGHT
TZOFFSETFROM:-0500
TZOFFSETTO:-0400
TZNAME:EDT
DTSTART:20260308T070000
END:DAYLIGHT
BEGIN:STANDARD
TZOFFSETFROM:-0400
TZOFFSETTO:-0500
TZNAME:EST
DTSTART:20261101T060000
END:STANDARD
END:VTIMEZONE
BEGIN:VEVENT
DTSTART;TZID=America/Detroit:20250715T000000
DTEND;TZID=America/Detroit:20250715T235959
DTSTAMP:20260425T104333
CREATED:20250715T123451Z
LAST-MODIFIED:20250715T123632Z
UID:53507-1752537600-1752623999@develop-review-hart-desti-07sbl4.dev02.devhart.com
SUMMARY:Infinite Images: The Art of Algorithms
DESCRIPTION:Explore the intersection of art and technology in Infinite Images: The Art of Algorithms. This exhibition highlights the innovative ways artists use code\, systems\, and generative processes to create visually striking works that challenge how we define creativity. From early experiments in computer art to today’s algorithm-driven visuals\, discover how artists are reimagining image-making in the digital age. \nDon’t miss this rare opportunity; reserve your exhibition tickets today.
URL:https://develop-review-hart-desti-07sbl4.dev02.devhart.com/event/infinite-images-the-art-of-algorithms
LOCATION:Toledo Museum of Art\, 2445 Monroe St\, Toledo\, OH\, 43620\, United States
CATEGORIES:art,educational
ATTACH;FMTTYPE=image/png:https://minio.devhart.com/destination-toledo-website/wp-content/uploads/2025/07/17110539/Infinite-Images-tma-exhibit-4x3-event-image.png
END:VEVENT
BEGIN:VEVENT
DTSTART;TZID=America/Detroit:20250919T180000
DTEND;TZID=America/Detroit:20250919T200000
DTSTAMP:20260425T104333
CREATED:20250827T010305Z
LAST-MODIFIED:20250827T010306Z
UID:54238-1758304800-1758312000@develop-review-hart-desti-07sbl4.dev02.devhart.com
SUMMARY:Friday Night Family Cruise on The Sandpiper
DESCRIPTION:Bring the family for a two hour cruise on the mighty Maumee! Enjoy the enchanting dusk views of downtown Toledo\, view area wildlife\, as well as the stately homes along the way. Bring a picnic or order pizza. \nGuests are welcome to bring their own food and beverages\, including alcoholic beverages\, aboard any J&M Cruise Line event. Guests are encouraged to bring a small cooler to keep their items cold. \nJ&M Cruise Lines 2025 Season\nJ&M Cruise Lines operates the Sandpiper\, Glass City Pearl\, and the Water Street Taxi & Tour\, and manages the Glass City Marina and the Downtown Toledo docks.  \nVisit www.jmcruiselines.com for more information about their boats\, cruises\, and policies. \nFor a full list of J&M Cruise Lines’ events visit www.jmcruiselines.com/calendar
URL:https://develop-review-hart-desti-07sbl4.dev02.devhart.com/event/friday-night-family-cruise-on-the-sandpiper-2
LOCATION:Ohio
ATTACH;FMTTYPE=image/jpeg:https://minio.devhart.com/destination-toledo-website/wp-content/uploads/2025/03/12145909/Sandpiper-42.jpg
END:VEVENT
BEGIN:VEVENT
DTSTART;TZID=America/Detroit:20250926T180000
DTEND;TZID=America/Detroit:20250926T210000
DTSTAMP:20260425T104333
CREATED:20250820T224236Z
LAST-MODIFIED:20250821T132131Z
UID:54179-1758909600-1758920400@develop-review-hart-desti-07sbl4.dev02.devhart.com
SUMMARY:Sip Sip Hooray! Harvest Wine Fest
DESCRIPTION:Cheers to a wine-filled fall evening at this exclusive\, limited-attendance\, wine tasting event! \n\n\nEnjoy live entertainment while sampling a variety of wines across zoo grounds and preview their Harvest Fest displays. This is a strolling event and seating will be limited. Tickets include 15 samples\, a souvenir wine glass with champagne toast upon arrival\, complimentary parking in the Anthony Wayne Trail lot\, and live entertainment. Light snacks will also be included\, but guests may also purchase food at select concession stands. This is a rain or shine event. Guests must be age 21 and up to attend\, ID will be checked at the gate.
URL:https://develop-review-hart-desti-07sbl4.dev02.devhart.com/event/sip-sip-hooray-harvest-wine-fest
LOCATION:Toledo Zoo & Aquarium\, Hippo Way 2\, Toledo\, OH\, 43609\, United States
CATEGORIES:entertainment,outdoors,wine
ATTACH;FMTTYPE=image/png:https://minio.devhart.com/destination-toledo-website/wp-content/uploads/2025/08/17110110/toledo-zoo-harvest-wine-4x3-event-image.png
END:VEVENT
BEGIN:VEVENT
DTSTART;TZID=America/Detroit:20250926T180000
DTEND;TZID=America/Detroit:20250926T220000
DTSTAMP:20260425T104333
CREATED:20250903T173958Z
LAST-MODIFIED:20250903T174333Z
UID:54364-1758909600-1758924000@develop-review-hart-desti-07sbl4.dev02.devhart.com
SUMMARY:Maumee Film Festival
DESCRIPTION:The Maumee Film Festival celebrates the art of creativity\, filmmaking and storytelling. It allows aspiring filmmakers the unique opportunity to see their work projected on a movie screen in the iconic and beautiful Maumee Indoor Theater. The festival also celebrates the city of Maumee\, a peaceful community situated along the scenic Maumee River in Northwest Ohio. \nFestival | Maumee Film Festival
URL:https://develop-review-hart-desti-07sbl4.dev02.devhart.com/event/maumee-film-festival
LOCATION:Maumee Indoor Theater\, 601 Conant St\, Maumee\, OH\, 43537\, United States
CATEGORIES:entertainment,Festival,movie,Speaker
ATTACH;FMTTYPE=image/png:https://minio.devhart.com/destination-toledo-website/wp-content/uploads/2025/09/17110011/maumee-fil-festival-2025-4x3-event-image.png
END:VEVENT
BEGIN:VEVENT
DTSTART;TZID=America/Detroit:20250926T200000
DTEND;TZID=America/Detroit:20250926T230000
DTSTAMP:20260425T104333
CREATED:20250708T180546Z
LAST-MODIFIED:20250708T180546Z
UID:53265-1758916800-1758927600@develop-review-hart-desti-07sbl4.dev02.devhart.com
SUMMARY:Hollywood Casino Toledo - The Red Carpet Crashers
DESCRIPTION:On Friday\, September 26th The Red Carpet Crashers\, a unique blend of top 40 hits with a heavy dash of good ole’ rock ’n’ roll\, perform live at Hollywood Casino Toledo inside the H-Lounge! \nAt Hollywood Casino Toledo\, the H Lounge offers a vibrant atmosphere with free live entertainment every Friday and Saturday night from 8 p.m. to 11 p.m. Located on the casino floor\, the H Lounge features a variety of performances\, including local bands and tribute acts. You can also purchase tickets for a 4 top VIP viewing table on their website!
URL:https://develop-review-hart-desti-07sbl4.dev02.devhart.com/event/hollywood-casino-toledo-the-red-carpet-crashers
LOCATION:Hollywood Casino\, 1968 Miami St\, Toledo\, OH\, 43605\, United States
CATEGORIES:casino,entertainment,live music
ATTACH;FMTTYPE=image/jpeg:https://minio.devhart.com/destination-toledo-website/wp-content/uploads/2025/07/17110634/b9870f77-94ac-4a69-a5da-d17b6aa4e1ee-19.jpg
END:VEVENT
BEGIN:VEVENT
DTSTART;TZID=America/Detroit:20250606T210000
DTEND;TZID=America/Detroit:20250606T230000
DTSTAMP:20260425T104333
CREATED:20250313T184841Z
LAST-MODIFIED:20250313T184841Z
UID:39383-1749243600-1749250800@develop-review-hart-desti-07sbl4.dev02.devhart.com
SUMMARY:Friday Night Booze Cruise on the Sandpiper
DESCRIPTION:Enjoy a relaxing and kid-free Friday evening cruise on The Maumee River. Guests will enjoy a two-hour long cruise with good jams and peaceful vibes. This cruise is for adults only (21 and over). Local musicians\, entertainers\, and karaoke will be provided throughout the month. Look at the title of each cruise for more information. \nGuests are welcome to bring their own food and beverages\, including alcoholic beverages\, aboard any J&M Cruise Line event. Guests are encouraged to bring a small cooler to keep their items cold. \nJ&M Cruise Lines 2025 Season\nJ&M Cruise Lines operates the Sandpiper\, Glass City Pearl\, and the Water Street Taxi & Tour\, and manages the Glass City Marina and the Downtown Toledo docks.  \nVisit www.jmcruiselines.com for more information about their boats\, cruises\, and policies. \nFor a full list of J&M Cruise Lines’ events visit www.jmcruiselines.com/calendar
URL:https://develop-review-hart-desti-07sbl4.dev02.devhart.com/event/friday-night-booze-cruise-on-the-sandpiper
LOCATION:Ohio
ATTACH;FMTTYPE=image/jpeg:https://minio.devhart.com/destination-toledo-website/wp-content/uploads/2025/03/13144516/SP-TRAIN-BRIDGE.jpg
END:VEVENT
END:VCALENDAR